BEGIN:VCALENDAR
VERSION:2.0
PRODID:-//ChamberMaster//Event Calendar 2.0//EN
METHOD:PUBLISH
X-PUBLISHED-TTL:P1H
REFRESH-INTERVAL:P1H
CALSCALE:GREGORIAN
BEGIN:VTIMEZONE
TZID:America/Chicago
BEGIN:DAYLIGHT
RRULE:FREQ=YEARLY;BYMONTH=3;BYDAY=2SU
DTSTART:20070101T000000
TZOFFSETFROM:-0600
TZOFFSETTO:-0500
TZNAME:Central Daylight Time
END:DAYLIGHT
BEGIN:STANDARD
RRULE:FREQ=YEARLY;BYMONTH=11;BYDAY=1SU
DTSTART:20070101T000000
TZOFFSETFROM:-0500
TZOFFSETTO:-0600
TZNAME:Central Standard Time
END:STANDARD
END:VTIMEZONE
BEGIN:VEVENT
DTSTART;TZID=America/Chicago:20260723T163000
DTEND;TZID=America/Chicago:20260723T173000
X-MICROSOFT-CDO-ALLDAYEVENT:FALSE
SUMMARY:RC: Flatwater Wealth
DESCRIPTION:Join us for a Ribbon Cutting Ceremony celebrating Flatwater Wealth's Expansion!
X-ALT-DESC;FMTTYPE=text/html:Join us for a Ribbon Cutting Ceremony celebrating Flatwater Wealth's Expansion!
LOCATION:410 Lexington Circle Grand Island NE 68803
UID:e.4449.1448018
SEQUENCE:3
DTSTAMP:20260423T105111Z
URL:https://business.grandisland.org/eventcalendar/Details/rc-flatwater-wealth-1714970?sourceTypeId=Hub
END:VEVENT
END:VCALENDAR
