BEGIN:VCALENDAR
VERSION:2.0
PRODID:-//ChamberMaster//Event Calendar 2.0//EN
METHOD:PUBLISH
X-PUBLISHED-TTL:P1H
REFRESH-INTERVAL:P1H
CALSCALE:GREGORIAN
BEGIN:VTIMEZONE
TZID:America/Chicago
BEGIN:DAYLIGHT
RRULE:FREQ=YEARLY;BYMONTH=3;BYDAY=2SU
DTSTART:20070101T000000
TZOFFSETFROM:-0600
TZOFFSETTO:-0500
TZNAME:Central Daylight Time
END:DAYLIGHT
BEGIN:STANDARD
RRULE:FREQ=YEARLY;BYMONTH=11;BYDAY=1SU
DTSTART:20070101T000000
TZOFFSETFROM:-0500
TZOFFSETTO:-0600
TZNAME:Central Standard Time
END:STANDARD
END:VTIMEZONE
BEGIN:VEVENT
DTSTART;TZID=America/Chicago:20261003T080000
DTEND;TZID=America/Chicago:20261003T190000
X-MICROSOFT-CDO-ALLDAYEVENT:FALSE
SUMMARY:Harvest of Harmony
DESCRIPTION:We appreciate your interest in participating in the 84th Harvest of Harmony!\n\nThe Parade will celebrate America's 250th Birthday and begins on Saturday\, October 3rd at 8:15 a.m. at the Eddy Street Underpass. The route travels east along 3rd Street and concludes at Oak Street around 11:30 a.m. Spectators can look forward to an exciting lineup of marching bands\, patriotic floats\, and lively performances that bring energy\, tradition\, and celebration to downtown.The Field Competition also takes place on Saturday\, October 3rd\, beginning at 10:30 a.m. at Grand Island Senior High School Memorial Stadium. Bands from Class D through Class AA will perform\, with groups from across the region showcasing their musical excellence and precision in one of Nebraska's premier marching events.\n\n\nPricing:\nParade Only - Band $125\nParade & Field Competition - Band $150\nParade Float $150
X-ALT-DESC;FMTTYPE=text/html:<!DOCTYPE html><html><head><title></title></head><body aria-disabled="false"><p>We appreciate your interest in participating in the 84th Harvest of Harmony!<br><br></p><p>The Parade will celebrate America&rsquo\;s 250th Birthday and begins on Saturday\, October 3rd at 8:15 a.m. at the Eddy Street Underpass. The route travels east along 3rd Street and concludes at Oak Street around 11:30 a.m. Spectators can look forward to an exciting lineup of marching bands\, patriotic floats\, and lively performances that bring energy\, tradition\, and celebration to downtown.</p><p>The Field Competition also takes place on Saturday\, October 3rd\, beginning at 10:30 a.m. at Grand Island Senior High School Memorial Stadium. Bands from Class D through Class AA will perform\, with groups from across the region showcasing their musical excellence and precision in one of Nebraska&rsquo\;s premier marching events.<br><br><br>Pricing:<br>Parade Only - Band $125<br>Parade &amp\; Field Competition - Band $150<br>Parade Float $150</p><p data-end="976" data-is-last-node="" data-is-only-node="" data-start="871"><br></p></body></html>
LOCATION:
UID:e.4449.1347253
SEQUENCE:3
DTSTAMP:20260423T110249Z
URL:https://business.grandisland.org/eventcalendar/Details/harvest-of-harmony-1584177?sourceTypeId=Hub
END:VEVENT
END:VCALENDAR
