BEGIN:VCALENDAR
VERSION:2.0
PRODID:-//ChamberMaster//Event Calendar 2.0//EN
METHOD:PUBLISH
X-PUBLISHED-TTL:P1H
REFRESH-INTERVAL:P1H
CALSCALE:GREGORIAN
BEGIN:VTIMEZONE
TZID:America/Chicago
BEGIN:DAYLIGHT
RRULE:FREQ=YEARLY;BYMONTH=3;BYDAY=2SU
DTSTART:20070101T000000
TZOFFSETFROM:-0600
TZOFFSETTO:-0500
TZNAME:Central Daylight Time
END:DAYLIGHT
BEGIN:STANDARD
RRULE:FREQ=YEARLY;BYMONTH=11;BYDAY=1SU
DTSTART:20070101T000000
TZOFFSETFROM:-0500
TZOFFSETTO:-0600
TZNAME:Central Standard Time
END:STANDARD
END:VTIMEZONE
BEGIN:VEVENT
DTSTART;TZID=America/Chicago:20260420T100044
DTEND;TZID=America/Chicago:20260425T180000
X-MICROSOFT-CDO-ALLDAYEVENT:FALSE
SUMMARY:FRIENDS AND FAMILY SALE
DESCRIPTION:ANNUAL FRIENDS & FAMILY SALE\, BEST SALE OF THE YEAR! 50% OFF LIST PRICE & ADDITIONAL 15% OFF ALREADY REDUCED PRICES! NOW THRU APRIL 25TH
X-ALT-DESC;FMTTYPE=text/html:<!DOCTYPE html><html><head><title></title></head><body aria-disabled="false"><p>ANNUAL FRIENDS &amp\; FAMILY SALE\, BEST SALE OF THE YEAR! 50% OFF LIST PRICE &amp\; ADDITIONAL 15% OFF ALREADY REDUCED PRICES! NOW THRU APRIL 25TH</p></body></html>
LOCATION:3537 WEST 13TH STREET #108 GRAND ISLAND NE 68803
UID:e.4449.1447520
SEQUENCE:3
DTSTAMP:20260423T110656Z
URL:https://business.grandisland.org/eventcalendar/Details/friends-and-family-sale-1714461?sourceTypeId=Hub
END:VEVENT
END:VCALENDAR
