BEGIN:VCALENDAR
VERSION:2.0
PRODID:-//ChamberMaster//Event Calendar 2.0//EN
METHOD:PUBLISH
X-PUBLISHED-TTL:P1H
REFRESH-INTERVAL:P1H
CALSCALE:GREGORIAN
BEGIN:VTIMEZONE
TZID:America/Chicago
BEGIN:DAYLIGHT
RRULE:FREQ=YEARLY;BYMONTH=3;BYDAY=2SU
DTSTART:20070101T000000
TZOFFSETFROM:-0600
TZOFFSETTO:-0500
TZNAME:Central Daylight Time
END:DAYLIGHT
BEGIN:STANDARD
RRULE:FREQ=YEARLY;BYMONTH=11;BYDAY=1SU
DTSTART:20070101T000000
TZOFFSETFROM:-0500
TZOFFSETTO:-0600
TZNAME:Central Standard Time
END:STANDARD
END:VTIMEZONE
BEGIN:VEVENT
DTSTART;TZID=America/Chicago:20260420T080000
DTEND;TZID=America/Chicago:20260501T170000
X-MICROSOFT-CDO-ALLDAYEVENT:FALSE
SUMMARY:Adopt a Family
DESCRIPTION:Join us in making a difference! This year\, instead of participating in Go Big Give\, our board has chosen to adopt families in need. With your support\, we aim to provide access to ICCM for those who might otherwise miss out. Together\, we can foster growth\, learning\, and play for every member of our community. Let's create lasting impacts donate today!https://www.zeffy.com/en-US/ticketing/adopt-a-family-3
X-ALT-DESC;FMTTYPE=text/html:<!DOCTYPE html><html><head><title></title></head><body aria-disabled="false" data-gr-ext-installed="" data-new-gr-c-s-check-loaded="14.1136.0" data-new-gr-c-s-loaded="14.1136.0" spellcheck="false"><p>Join us in making a difference! This year\, instead of participating in Go Big Give\, our board has chosen to adopt families in need. With your support\, we aim to provide access to ICCM for those who might otherwise miss out. Together\, we can foster growth\, learning\, and play for every member of our community. Let&#39\;s create lasting impacts&mdash\;donate today!</p><p><a fr-original-style="" href="https://www.zeffy.com/en-US/ticketing/adopt-a-family-3" style="user-select: auto\;">https://www.zeffy.com/en-US/ticketing/adopt-a-family-3</a></p></body></html>
LOCATION:2120 Lawrence Lane Grand Island NE 68803
UID:e.4449.1446329
SEQUENCE:3
DTSTAMP:20260423T110122Z
URL:https://business.grandisland.org/eventcalendar/Details/adopt-a-family-1713062?sourceTypeId=Hub
END:VEVENT
END:VCALENDAR
